BEGIN:VCALENDAR
VERSION:2.0
PRODID:-//ASHS Nationals - ECPv4.8.1//NONSGML v1.0//EN
CALSCALE:GREGORIAN
METHOD:PUBLISH
X-WR-CALNAME:ASHS Nationals
X-ORIGINAL-URL:https://www.ashsnationals.com.au
X-WR-CALDESC:Events for ASHS Nationals
BEGIN:VEVENT
DTSTART;VALUE=DATE:20190301
DTEND;VALUE=DATE:20190304
DTSTAMP:20190228T125127
CREATED:20180727T024037Z
LAST-MODIFIED:20180727T052212Z
UID:5129-1551398400-1551657599@www.ashsnationals.com.au
SUMMARY:Maiden Series 22 Campdraft
DESCRIPTION:Campdrafting is a uniquely Australian equestrian discipline\, dominated by Australian Stock Horses. Campdrafting involves a rider entering a “camp” (yard) which contains six to eight head of cattle. The rider cuts out (separates) one beast from the others and brings it to the front of the camp. Working the beast (blocking/turning)\, two or three times to prove that the rider has the beast under control. The rider then calls for the gates to be opened. The rider proceeds to work the beast around a course in a larger arena. Once completed\, the rider guides the beast through two pegs that are placed apart to finish the campdraft. Points are awarded for horsemanship and control of the beast within the set time limits. \nThe Maiden Campdraft Series consists of two rounds plus a final. Points are awarded for Horse Work (out of 70)\, Cut Out (out of 26) and Course (out of 4)\, to give a maximum of 100 points. \nCourse\nThe course consists of two pegs and a gate and can be either a left or right-handed course at the discretion of the judge. Points are awarded for horsemanship and control of the beast around the\ncourse within the time limit of 40 seconds. The competitor is allowed two attempts at each peg. \nHorse Work\nA competitor is judged on the speed and skill of their riding around the course. The first peg of the course must be completed in order for the competitor to receive any horse work points. \nCut Out\nThe competitor cuts out a beast from the cattle in the camp (yard) and brings that beast to the front of the camp. The rider shows to the judge that he/she has the beast under control and can hold the beast from the mob. \nLearn about the past Maiden Series Campdraft Champions by visiting the Hall of Fame  \nCampdrafting Programme:\n\nMaiden Series Draft\nNovice Draft\nOpen Draft\nStallion Draft\nLadies Draft\n\nFor further details on the competition\, please visit the Competitors Page \n
URL:https://www.ashsnationals.com.au/event/maiden-series-22-campdraft/
LOCATION:Campdraft Arena\, 503 Goonoo Goonoo Rd\, Hillvue\, NSW\, 2340\, Australia
CATEGORIES:Campdraft,Featured Event
ATTACH;FMTTYPE=image/jpeg:https://www.ashsnationals.com.au/wp-content/uploads/2018/07/slide2-1.jpg
END:VEVENT
BEGIN:VEVENT
DTSTART;VALUE=DATE:20190301
DTEND;VALUE=DATE:20190310
DTSTAMP:20190228T125127
CREATED:20180727T051720Z
LAST-MODIFIED:20190212T023608Z
UID:5144-1551398400-1552175999@www.ashsnationals.com.au
SUMMARY:Show Classes
DESCRIPTION:The equine disciplines shown at the National Show are intended to display the athleticism and skill of the Australian Stock Horse. The event attracts competitors from across the country\, where they compete in over 100 classes consisting of Dressage\, Led\, Hack and traditional ASH disciplines such as Working and Station Horse. Visit the event and be inspired by the high level of competition and see the amazing relationship between the horse and rider. \n
URL:https://www.ashsnationals.com.au/event/show-classes-dressage/
LOCATION:Main Arena\, 503 Goonoo Goonoo Rd\, Hillvue\, NSW\, 2340\, Australia
CATEGORIES:ASHLA,Dressage,Hack,Led,Novice Working,Open Working,Station Horses
ATTACH;FMTTYPE=image/jpeg:https://www.ashsnationals.com.au/wp-content/uploads/2018/07/OZS_9933-lo-e1532668699247.jpg
END:VEVENT
BEGIN:VEVENT
DTSTART;VALUE=DATE:20190302
DTEND;VALUE=DATE:20190303
DTSTAMP:20190228T125127
CREATED:20180727T060229Z
LAST-MODIFIED:20180727T061046Z
UID:5160-1551484800-1551571199@www.ashsnationals.com.au
SUMMARY:2019 Fountain of Youth Sale
DESCRIPTION:This sale offers a chance to secure quality performance horses for the future. The Australian Stock Horse Society continue to build this prestigious young horse sale by offering exclusive competitions and incentives for horses purchased at this sale. \nThe sale will be held in conjunction with the ASHS National Show at AELEC Tamworth in NSW on Saturday 2nd March. We look forward to horse enthusiasts attending the sale as a vendor or purchaser and/or show as a competitor\, volunteer or spectator. \nClick here to read on  \n
URL:https://www.ashsnationals.com.au/event/2019-fountain-of-youth-sale/
LOCATION:Main Arena\, 503 Goonoo Goonoo Rd\, Hillvue\, NSW\, 2340\, Australia
CATEGORIES:Featured Event,Fountain of Youth
ATTACH;FMTTYPE=image/jpeg:https://www.ashsnationals.com.au/wp-content/uploads/2018/07/foysaletile-1.jpg
END:VEVENT
BEGIN:VEVENT
DTSTART;TZID=Australia/Sydney:20190302T190000
DTEND;TZID=Australia/Sydney:20190302T213000
DTSTAMP:20190228T125127
CREATED:20180727T054327Z
LAST-MODIFIED:20190201T070705Z
UID:5152-1551553200-1551562200@www.ashsnationals.com.au
SUMMARY:2019 Gala Night
DESCRIPTION:See the amazing relationship between horse and human performing at the largest Australian Stock Horse event. The ASHS Gala Night has become a huge drawcard for spectators and will continue to deliver must-see live equine entertainment. The line-up will include professional equine entertainers performing awe-inspiring horsemanship\, thrilling stunts and a hint of comedy for the whole family to watch and enjoy \n
URL:https://www.ashsnationals.com.au/event/2019gala-night/
CATEGORIES:Entertainment
ATTACH;FMTTYPE=image/jpeg:https://www.ashsnationals.com.au/wp-content/uploads/2018/07/FOY_Gala_Night_Flyer_2.jpg
END:VEVENT
BEGIN:VEVENT
DTSTART;TZID=Australia/Sydney:20190302T190000
DTEND;TZID=Australia/Sydney:20190302T193000
DTSTAMP:20190228T125127
CREATED:20190214T055030Z
LAST-MODIFIED:20190214T055234Z
UID:5423-1551553200-1551555000@www.ashsnationals.com.au
SUMMARY:Opening Ceremony & Auction
DESCRIPTION: \n  \n
URL:https://www.ashsnationals.com.au/event/openingceremonyandauction/
CATEGORIES:Entertainment
END:VEVENT
BEGIN:VEVENT
DTSTART;VALUE=DATE:20190303
DTEND;VALUE=DATE:20190304
DTSTAMP:20190228T125127
CREATED:20180727T032035Z
LAST-MODIFIED:20180727T032035Z
UID:5141-1551571200-1551657599@www.ashsnationals.com.au
SUMMARY:ABBEY Open Challenge
DESCRIPTION:The ABBEY Open Challenge is of the featured competitions at the National Show held over four sections: Hack\, Working\, Time Trial and Cattle. It has been designed to showcase the ability and temperament of the Society’s horses five years and over. \nPrizemoney is awarded to the winner and placegetters of each section. Scores from each section are added together\, with the exception of the Time Trial time\, which is deducted from the total score to give an overall score. An overall winner\, based on points\, is calculated after the completion of all four sections. \nHack Section\nDuring the Hack Section\, the horse should be calm\, supple\, obedient and move freely. The workout should demonstrate the horse’s basic training in fluent and flowing motion. The horse should be relaxed and give a comfortable ride. \nWorking Section\nThe Working Section tests the horse’s ability to maneuver well whilst engaging its hindquarters during haunch turns and stops. The horse should be relaxed and settled during the workout\, be light on its feet\, well balanced and responsive to the rider’s commands\, with little or no resistance to the bit. \nTime Trial Section\nThe course for the Time Trial may include jumping small obstacles\, opening a gate\, and the like. Although this is a timed event\, some sections of the course may stipulate the horse’s pace. Penalties may be given for break of pace\, knocking over obstacles\, etc. \nCattle Section\nThe Cattle Section is a normal campdraft. Prior to commencement of the event\, the Judge will stipulate a left or right-handed course and competitors will be scored and judged as follows: Cut Out: 26 points Horse Work: 70 points Gate: 4 points \n
URL:https://www.ashsnationals.com.au/event/abbey-open-challenge-2/
LOCATION:Main Arena\, 503 Goonoo Goonoo Rd\, Hillvue\, NSW\, 2340\, Australia
CATEGORIES:Challenge,Featured Event
ATTACH;FMTTYPE=image/jpeg:https://www.ashsnationals.com.au/wp-content/uploads/2018/07/challenge-e1532661484827.jpg
END:VEVENT
END:VCALENDAR